BEGIN:VCALENDAR
VERSION:2.0
PRODID:-//Troop 26 - ECPv6.15.20//NONSGML v1.0//EN
CALSCALE:GREGORIAN
METHOD:PUBLISH
X-WR-CALNAME:Troop 26
X-ORIGINAL-URL:https://troop26.net
X-WR-CALDESC:Events for Troop 26
REFRESH-INTERVAL;VALUE=DURATION:PT1H
X-Robots-Tag:noindex
X-PUBLISHED-TTL:PT1H
BEGIN:VTIMEZONE
TZID:America/Los_Angeles
BEGIN:DAYLIGHT
TZOFFSETFROM:-0800
TZOFFSETTO:-0700
TZNAME:PDT
DTSTART:20250309T100000
END:DAYLIGHT
BEGIN:STANDARD
TZOFFSETFROM:-0700
TZOFFSETTO:-0800
TZNAME:PST
DTSTART:20251102T090000
END:STANDARD
BEGIN:DAYLIGHT
TZOFFSETFROM:-0800
TZOFFSETTO:-0700
TZNAME:PDT
DTSTART:20260308T100000
END:DAYLIGHT
BEGIN:STANDARD
TZOFFSETFROM:-0700
TZOFFSETTO:-0800
TZNAME:PST
DTSTART:20261101T090000
END:STANDARD
BEGIN:DAYLIGHT
TZOFFSETFROM:-0800
TZOFFSETTO:-0700
TZNAME:PDT
DTSTART:20270314T100000
END:DAYLIGHT
BEGIN:STANDARD
TZOFFSETFROM:-0700
TZOFFSETTO:-0800
TZNAME:PST
DTSTART:20271107T090000
END:STANDARD
END:VTIMEZONE
BEGIN:VEVENT
DTSTART;TZID=America/Los_Angeles:20260308T090000
DTEND;TZID=America/Los_Angeles:20260308T130000
DTSTAMP:20260424T132507
CREATED:20260204T091238Z
LAST-MODIFIED:20260308T105752Z
UID:13063-1772960400-1772974800@troop26.net
SUMMARY:New Troop Leadership training
DESCRIPTION:New Greenbar Training session\, x4 hrs\, several of teh group have been trained before so will be expected to teach
URL:https://troop26.net/troop-26-event/new-troop-leadership-training/
LOCATION:Location was not specified
CATEGORIES:Troop Event
END:VEVENT
END:VCALENDAR