BEGIN:VCALENDAR
VERSION:2.0
PRODID:-//Troop 26 - ECPv6.15.20//NONSGML v1.0//EN
CALSCALE:GREGORIAN
METHOD:PUBLISH
X-ORIGINAL-URL:https://troop26.net
X-WR-CALDESC:Events for Troop 26
REFRESH-INTERVAL;VALUE=DURATION:PT1H
X-Robots-Tag:noindex
X-PUBLISHED-TTL:PT1H
BEGIN:VTIMEZONE
TZID:America/Los_Angeles
BEGIN:DAYLIGHT
TZOFFSETFROM:-0800
TZOFFSETTO:-0700
TZNAME:PDT
DTSTART:20250309T100000
END:DAYLIGHT
BEGIN:STANDARD
TZOFFSETFROM:-0700
TZOFFSETTO:-0800
TZNAME:PST
DTSTART:20251102T090000
END:STANDARD
BEGIN:DAYLIGHT
TZOFFSETFROM:-0800
TZOFFSETTO:-0700
TZNAME:PDT
DTSTART:20260308T100000
END:DAYLIGHT
BEGIN:STANDARD
TZOFFSETFROM:-0700
TZOFFSETTO:-0800
TZNAME:PST
DTSTART:20261101T090000
END:STANDARD
BEGIN:DAYLIGHT
TZOFFSETFROM:-0800
TZOFFSETTO:-0700
TZNAME:PDT
DTSTART:20270314T100000
END:DAYLIGHT
BEGIN:STANDARD
TZOFFSETFROM:-0700
TZOFFSETTO:-0800
TZNAME:PST
DTSTART:20271107T090000
END:STANDARD
END:VTIMEZONE
BEGIN:VEVENT
DTSTART;TZID=America/Los_Angeles:20260407T180000
DTEND;TZID=America/Los_Angeles:20260407T190000
DTSTAMP:20260424T085358
CREATED:20260318T114329Z
LAST-MODIFIED:20260407T142810Z
UID:13147-1775584800-1775588400@troop26.net
SUMMARY:Greenbar Meeting
DESCRIPTION:Greenbar meeting
URL:https://troop26.net/troop-26-event/greenbar-meeting-46/
LOCATION:None
CATEGORIES:Troop Event
END:VEVENT
BEGIN:VEVENT
DTSTART;TZID=America/Los_Angeles:20260407T190000
DTEND;TZID=America/Los_Angeles:20260407T203000
DTSTAMP:20260424T085358
CREATED:20250408T221557Z
LAST-MODIFIED:20260407T142810Z
UID:12313-1775588400-1775593800@troop26.net
SUMMARY:TROOP MEETING / ECOH Caio and Jack
DESCRIPTION:T26 TROOP MEETING\, combined ECOH\, Jack & Caio details tbd
URL:https://troop26.net/troop-26-event/troop-meeting-195/
LOCATION:St Mark UMC
CATEGORIES:Troop Event
END:VEVENT
BEGIN:VEVENT
DTSTART;TZID=America/Los_Angeles:20260407T191500
DTEND;TZID=America/Los_Angeles:20260407T201500
DTSTAMP:20260424T085358
CREATED:20260407T142810Z
LAST-MODIFIED:20260407T142810Z
UID:13174-1775589300-1775592900@troop26.net
SUMMARY:Parent Committee Meeting
DESCRIPTION:Hi Troop 26 parents\, Our monthly Parent Committee meetings are on the first Tuesday of the month. We’ll cover a few updates and open it up for any questions or ideas. Hope you can make it and thanks for supporting the troop. Our Treasurer\, Greg Heinz will provide a tutorial on the new invoicing and payment system. Use the link below to access our meeting agenda and minutes.Parents – Troop 26Thank you\, James Foster
URL:https://troop26.net/troop-26-event/parent-committee-meeting-31/
LOCATION:3942 La Colina Rd\, Santa Barbara\, CA\, United States
CATEGORIES:Troop Event
END:VEVENT
END:VCALENDAR