BEGIN:VCALENDAR
VERSION:2.0
PRODID:-//Troop 26 - ECPv6.15.20//NONSGML v1.0//EN
CALSCALE:GREGORIAN
METHOD:PUBLISH
X-ORIGINAL-URL:https://troop26.net
X-WR-CALDESC:Events for Troop 26
REFRESH-INTERVAL;VALUE=DURATION:PT1H
X-Robots-Tag:noindex
X-PUBLISHED-TTL:PT1H
BEGIN:VTIMEZONE
TZID:America/Los_Angeles
BEGIN:DAYLIGHT
TZOFFSETFROM:-0800
TZOFFSETTO:-0700
TZNAME:PDT
DTSTART:20250309T100000
END:DAYLIGHT
BEGIN:STANDARD
TZOFFSETFROM:-0700
TZOFFSETTO:-0800
TZNAME:PST
DTSTART:20251102T090000
END:STANDARD
BEGIN:DAYLIGHT
TZOFFSETFROM:-0800
TZOFFSETTO:-0700
TZNAME:PDT
DTSTART:20260308T100000
END:DAYLIGHT
BEGIN:STANDARD
TZOFFSETFROM:-0700
TZOFFSETTO:-0800
TZNAME:PST
DTSTART:20261101T090000
END:STANDARD
BEGIN:DAYLIGHT
TZOFFSETFROM:-0800
TZOFFSETTO:-0700
TZNAME:PDT
DTSTART:20270314T100000
END:DAYLIGHT
BEGIN:STANDARD
TZOFFSETFROM:-0700
TZOFFSETTO:-0800
TZNAME:PST
DTSTART:20271107T090000
END:STANDARD
END:VTIMEZONE
BEGIN:VEVENT
DTSTART;TZID=America/Los_Angeles:20260411T080000
DTEND;TZID=America/Los_Angeles:20260411T123000
DTSTAMP:20260424T083809
CREATED:20250929T185945Z
LAST-MODIFIED:20260411T145727Z
UID:12788-1775894400-1775910600@troop26.net
SUMMARY:Day Hike... Jesusita from Stevens Park
DESCRIPTION:All\, great to see we have over a dozen scouts signed up for tomorrow’s hike.After checking in with Mr. Weakliem\, we’ll stay close to town and do a Front Range conditioning hike since it looks like we’ll miss the rain.Hike: Jesusita Trail\, out and back. Along the way we’ll work on:- Identifying 10 plants or animals – Navigation & trek leadershi – Any sign-offs scouts needPlease bring: Water\, packed lunch\, rain gear (just in case)\, sunscreen\, hat\, sunglasses\, appropriate footwear\, and hiking poles if you have them.If you have any questions\, feel free to call or text me at 832-489-1179.We’ll meet at the trailhead at 08:00hrs The hike should take about 4 to 4.5 hours\, and scouts will call when we’re about 20 minutes out on the return.Looking forward to seeing you all there
URL:https://troop26.net/troop-26-event/camporee-6/
LOCATION:Stevens Park\, just off San Roque
CATEGORIES:Troop Event
END:VEVENT
END:VCALENDAR