BEGIN:VCALENDAR
VERSION:2.0
PRODID:-//Troop 26 - ECPv6.15.20//NONSGML v1.0//EN
CALSCALE:GREGORIAN
METHOD:PUBLISH
X-WR-CALNAME:Troop 26
X-ORIGINAL-URL:https://troop26.net
X-WR-CALDESC:Events for Troop 26
REFRESH-INTERVAL;VALUE=DURATION:PT1H
X-Robots-Tag:noindex
X-PUBLISHED-TTL:PT1H
BEGIN:VTIMEZONE
TZID:America/Los_Angeles
BEGIN:DAYLIGHT
TZOFFSETFROM:-0800
TZOFFSETTO:-0700
TZNAME:PDT
DTSTART:20250309T100000
END:DAYLIGHT
BEGIN:STANDARD
TZOFFSETFROM:-0700
TZOFFSETTO:-0800
TZNAME:PST
DTSTART:20251102T090000
END:STANDARD
BEGIN:DAYLIGHT
TZOFFSETFROM:-0800
TZOFFSETTO:-0700
TZNAME:PDT
DTSTART:20260308T100000
END:DAYLIGHT
BEGIN:STANDARD
TZOFFSETFROM:-0700
TZOFFSETTO:-0800
TZNAME:PST
DTSTART:20261101T090000
END:STANDARD
BEGIN:DAYLIGHT
TZOFFSETFROM:-0800
TZOFFSETTO:-0700
TZNAME:PDT
DTSTART:20270314T100000
END:DAYLIGHT
BEGIN:STANDARD
TZOFFSETFROM:-0700
TZOFFSETTO:-0800
TZNAME:PST
DTSTART:20271107T090000
END:STANDARD
END:VTIMEZONE
BEGIN:VEVENT
DTSTART;TZID=America/Los_Angeles:20260703T103000
DTEND;TZID=America/Los_Angeles:20260703T123000
DTSTAMP:20260424T102311
CREATED:20260214T101316Z
LAST-MODIFIED:20260424T154344Z
UID:13076-1783074600-1783081800@troop26.net
SUMMARY:Valle Verde\, July 4th Celebration (on July 3rd)
DESCRIPTION:July 4th flag ceremony at Valle Verde\, Mr Hannote coordinating details.
URL:https://troop26.net/troop-26-event/valle-verde-july-4th-celebration-on-july-3rd/
LOCATION:None
CATEGORIES:Troop Event
END:VEVENT
END:VCALENDAR