BEGIN:VCALENDAR
VERSION:2.0
PRODID:-//Troop 26 - ECPv6.15.20//NONSGML v1.0//EN
CALSCALE:GREGORIAN
METHOD:PUBLISH
X-WR-CALNAME:Troop 26
X-ORIGINAL-URL:https://troop26.net
X-WR-CALDESC:Events for Troop 26
REFRESH-INTERVAL;VALUE=DURATION:PT1H
X-Robots-Tag:noindex
X-PUBLISHED-TTL:PT1H
BEGIN:VTIMEZONE
TZID:America/Los_Angeles
BEGIN:DAYLIGHT
TZOFFSETFROM:-0800
TZOFFSETTO:-0700
TZNAME:PDT
DTSTART:20250309T100000
END:DAYLIGHT
BEGIN:STANDARD
TZOFFSETFROM:-0700
TZOFFSETTO:-0800
TZNAME:PST
DTSTART:20251102T090000
END:STANDARD
BEGIN:DAYLIGHT
TZOFFSETFROM:-0800
TZOFFSETTO:-0700
TZNAME:PDT
DTSTART:20260308T100000
END:DAYLIGHT
BEGIN:STANDARD
TZOFFSETFROM:-0700
TZOFFSETTO:-0800
TZNAME:PST
DTSTART:20261101T090000
END:STANDARD
BEGIN:DAYLIGHT
TZOFFSETFROM:-0800
TZOFFSETTO:-0700
TZNAME:PDT
DTSTART:20270314T100000
END:DAYLIGHT
BEGIN:STANDARD
TZOFFSETFROM:-0700
TZOFFSETTO:-0800
TZNAME:PST
DTSTART:20271107T090000
END:STANDARD
END:VTIMEZONE
BEGIN:VEVENT
DTSTART;TZID=America/Los_Angeles:20260705T000000
DTEND;TZID=America/Los_Angeles:20260711T234500
DTSTAMP:20260424T152234
CREATED:20250929T190011Z
LAST-MODIFIED:20260424T154345Z
UID:12792-1783209600-1783813500@troop26.net
SUMMARY:Summer Camp\, Chawanakee ?
DESCRIPTION:SM Hey to lead\, details to follow
URL:https://troop26.net/troop-26-event/summer-camp-chawanakee/
LOCATION:Location was not specified
CATEGORIES:Troop Event
END:VEVENT
BEGIN:VEVENT
DTSTART;TZID=America/Los_Angeles:20260707T190000
DTEND;TZID=America/Los_Angeles:20260707T203000
DTSTAMP:20260424T152234
CREATED:20250708T101518Z
LAST-MODIFIED:20260424T154345Z
UID:12475-1783450800-1783456200@troop26.net
SUMMARY:TROOP MEETING
DESCRIPTION:T26 TROOP MEETING
URL:https://troop26.net/troop-26-event/troop-meeting-208/
LOCATION:St Mark UMC
CATEGORIES:Troop Event
END:VEVENT
BEGIN:VEVENT
DTSTART;TZID=America/Los_Angeles:20260707T191500
DTEND;TZID=America/Los_Angeles:20260707T201500
DTSTAMP:20260424T152234
CREATED:20260407T142852Z
LAST-MODIFIED:20260424T154345Z
UID:13177-1783451700-1783455300@troop26.net
SUMMARY:Parent Committee Meeting
DESCRIPTION:Parent Committee meetings are on the first Tuesday of the month.
URL:https://troop26.net/troop-26-event/parent-committee-meeting-34/
LOCATION:None
CATEGORIES:Troop Event
END:VEVENT
END:VCALENDAR