BEGIN:VCALENDAR
VERSION:2.0
PRODID:-//Troop 26 - ECPv6.15.20//NONSGML v1.0//EN
CALSCALE:GREGORIAN
METHOD:PUBLISH
X-ORIGINAL-URL:https://troop26.net
X-WR-CALDESC:Events for Troop 26
REFRESH-INTERVAL;VALUE=DURATION:PT1H
X-Robots-Tag:noindex
X-PUBLISHED-TTL:PT1H
BEGIN:VTIMEZONE
TZID:America/Los_Angeles
BEGIN:DAYLIGHT
TZOFFSETFROM:-0800
TZOFFSETTO:-0700
TZNAME:PDT
DTSTART:20240310T100000
END:DAYLIGHT
BEGIN:STANDARD
TZOFFSETFROM:-0700
TZOFFSETTO:-0800
TZNAME:PST
DTSTART:20241103T090000
END:STANDARD
BEGIN:DAYLIGHT
TZOFFSETFROM:-0800
TZOFFSETTO:-0700
TZNAME:PDT
DTSTART:20250309T100000
END:DAYLIGHT
BEGIN:STANDARD
TZOFFSETFROM:-0700
TZOFFSETTO:-0800
TZNAME:PST
DTSTART:20251102T090000
END:STANDARD
BEGIN:DAYLIGHT
TZOFFSETFROM:-0800
TZOFFSETTO:-0700
TZNAME:PDT
DTSTART:20260308T100000
END:DAYLIGHT
BEGIN:STANDARD
TZOFFSETFROM:-0700
TZOFFSETTO:-0800
TZNAME:PST
DTSTART:20261101T090000
END:STANDARD
END:VTIMEZONE
BEGIN:VEVENT
DTSTART;TZID=America/Los_Angeles:20250610T190000
DTEND;TZID=America/Los_Angeles:20250610T203000
DTSTAMP:20260424T015213
CREATED:20241022T232934Z
LAST-MODIFIED:20250610T062729Z
UID:11861-1749582000-1749587400@troop26.net
SUMMARY:TROOP MEETING (B) First Aid
DESCRIPTION:T26 TROOP MEETING
URL:https://troop26.net/troop-26-event/troop-meeting-156/
LOCATION:St Mark UMC
CATEGORIES:Troop Event
END:VEVENT
BEGIN:VEVENT
DTSTART;TZID=America/Los_Angeles:20250608T080000
DTEND;TZID=America/Los_Angeles:20250608T100000
DTSTAMP:20260424T015213
CREATED:20241023T234402Z
LAST-MODIFIED:20250608T061228Z
UID:11903-1749369600-1749376800@troop26.net
SUMMARY:Canoeing
DESCRIPTION:Come learn Canoeing skills!  We will work on paddling skills in a dry land exercise at Tucker’s Grove.  This is part of the Canoeing Merit Badge.  If you have not yet signed up\, contact Mr. Hey for approval and ask to work with MB Counselor Mrs. Schley.\nYours in Scouting\, Mrs. Schley\nQuestions?  805-455-5784 or nancy@schleys.com
URL:https://troop26.net/troop-26-event/canoeing-15/
LOCATION:Tucker’s Grove Park
CATEGORIES:Troop Event
END:VEVENT
BEGIN:VEVENT
DTSTART;TZID=America/Los_Angeles:20250607T080000
DTEND;TZID=America/Los_Angeles:20250607T140000
DTSTAMP:20260424T015213
CREATED:20250528T051258Z
LAST-MODIFIED:20250607T055728Z
UID:12412-1749283200-1749304800@troop26.net
SUMMARY:Service Project
DESCRIPTION:To Troop 26 Scouts and Adults\,\nWe have an opportunity to help an elderly lady\, who has no family here\, to move stored items from her home.  This will require at least 12 Scouts and also at least three adults with pickup trucks.  Each participant will receive service hours.\nArrive by 8am at:  760A Palermo Drive\, Santa Barbara.  Wear Class B shirts\, a hat\, work gloves\, sunglasses\, sunscreen.  Bring your water bottle and a morning snack.  PIZZA AND BEVERAGES WILL BE PROVIDED FOR LUNCH.  If we are efficient\, we’ll be done by 2pm.\nMr. Schley is the lead ASM\, but contact me if you have any questions.  PLEASE SIGN UP SO THAT WE CAN PLAN ACCORDINGLY.\nYours in Scouting\,\nReeves Schley\, SPL\n805-455-6239\nreevesschley4@gmail.com
URL:https://troop26.net/troop-26-event/service-project/
LOCATION:760A Palermo Dr\, Santa Barbara\, CA\, United States
CATEGORIES:Troop Event
END:VEVENT
BEGIN:VEVENT
DTSTART;TZID=America/Los_Angeles:20250603T191500
DTEND;TZID=America/Los_Angeles:20250603T203000
DTSTAMP:20260424T015213
CREATED:20250107T093129Z
LAST-MODIFIED:20250603T055829Z
UID:12152-1748978100-1748982600@troop26.net
SUMMARY:Parent Committee Meeting
DESCRIPTION:Monthly Parent Committee Meeting – First Tuesday at Saint Mark’s Church – 3942 La Colina Rd\, Santa Barbara\, CA 93110
URL:https://troop26.net/troop-26-event/parent-committee-meeting-22/
LOCATION:3942 La Colina Rd\, Santa Barbara\, CA\, United States
CATEGORIES:Troop Event
END:VEVENT
BEGIN:VEVENT
DTSTART;TZID=America/Los_Angeles:20250603T190000
DTEND;TZID=America/Los_Angeles:20250603T203000
DTSTAMP:20260424T015213
CREATED:20241022T232934Z
LAST-MODIFIED:20250603T055829Z
UID:11860-1748977200-1748982600@troop26.net
SUMMARY:Skill session\, "P" Emerald Bay tips & tricks
DESCRIPTION:T26 TROOP MEETING
URL:https://troop26.net/troop-26-event/troop-meeting-155/
LOCATION:St Mark UMC
CATEGORIES:Troop Event
END:VEVENT
BEGIN:VEVENT
DTSTART;TZID=America/Los_Angeles:20250603T180000
DTEND;TZID=America/Los_Angeles:20250603T190000
DTSTAMP:20260424T015213
CREATED:20250513T032755Z
LAST-MODIFIED:20250603T055829Z
UID:12386-1748973600-1748977200@troop26.net
SUMMARY:Trail to first class
DESCRIPTION:eding 
URL:https://troop26.net/troop-26-event/trail-to-first-class-4/
LOCATION:None
CATEGORIES:Troop Event
END:VEVENT
BEGIN:VEVENT
DTSTART;TZID=America/Los_Angeles:20250602T190000
DTEND;TZID=America/Los_Angeles:20250602T203000
DTSTAMP:20260424T015213
CREATED:20241023T234349Z
LAST-MODIFIED:20250602T054315Z
UID:11902-1748890800-1748896200@troop26.net
SUMMARY:Greenbar Meeting
DESCRIPTION:Greenbar
URL:https://troop26.net/troop-26-event/greenbar-meeting-37/
LOCATION:None
CATEGORIES:Troop Event
END:VEVENT
BEGIN:VEVENT
DTSTART;TZID=America/Los_Angeles:20250531T190000
DTEND;TZID=America/Los_Angeles:20250531T210000
DTSTAMP:20260424T015213
CREATED:20250411T224259Z
LAST-MODIFIED:20250531T052733Z
UID:12324-1748718000-1748725200@troop26.net
SUMMARY:JJ Stone Eagle Court of Honor
DESCRIPTION:The family of Joshua J Stone invites all of Troop 26 to JJ’s Eagle Court of Honor.  Please RSVP to help them with planning.
URL:https://troop26.net/troop-26-event/jj-stone-eagle-court-of-honor/
LOCATION:St Mark Church
CATEGORIES:Troop Event
END:VEVENT
BEGIN:VEVENT
DTSTART;TZID=America/Los_Angeles:20250531T080000
DTEND;TZID=America/Los_Angeles:20250531T130000
DTSTAMP:20260424T015213
CREATED:20241227T075924Z
LAST-MODIFIED:20250531T052733Z
UID:12112-1748678400-1748696400@troop26.net
SUMMARY:Gaviota Wind Caves Hike (Armstrong & Rowe)
DESCRIPTION:Wind Caves/ Gaviota Pass Overlook Hike\, Sat 31st May\nCar pool from Big5 at 8am\, planned return to Church ~1pm\nThis planned hike is only ~4 miles total. From the trail head we will walk a short way along a dirt road and then head up a single track toward the wind caves. After some exploring we will head around to the overlook. We shall have a snack there and turnaround and go back the way we came. This is another good training hike for Sierra Trek. As it is a short hike in mileage why not challenge yourself with a heavier backpack to simulate a overnight back packing trip! The trailhead is by Gaviota State Park Beach and Campground. Dont go into the Campground but stay on Gaviota Beach Rd\, parking right next to trailhead\nThings to bring:\nTen Essentials! Two liters of water! Snacks! Appropriate clothing for a hike! A good attitude!
URL:https://troop26.net/troop-26-event/gaviota-hike-from-las-cruces-renehan-armstrong/
LOCATION:Gaviota Wind Caves Trailhead
CATEGORIES:Troop Event
END:VEVENT
BEGIN:VEVENT
DTSTART;TZID=America/Los_Angeles:20250529T163000
DTEND;TZID=America/Los_Angeles:20250529T190000
DTSTAMP:20260424T015213
CREATED:20250429T013055Z
LAST-MODIFIED:20250529T051252Z
UID:12348-1748536200-1748545200@troop26.net
SUMMARY:Hollister School Carnival Volunteer Oportunity
DESCRIPTION:Sign up for a great community service project. Hollister School is putting on a carnival and is looking for volunteers to help run the booths\, as well as setup and tear down.\nDate: Thursday\, May 29\, 2025  \nTime: 5:00 PM  – 7:00 PM  – 5:00- 5:30 Sensory Friendly  \nLocation: Hollister School -Black top \nBooth Games:  \nBean Bag Throw  (win raffle ticket) \nFishing Booth (little toys)\nDuck Match (win raffle ticket)\nPlinko (win raffle ticket)\nRing Toss -(win raffle ticket)\nSoak N Wet Toss (win raffle ticket)\nCake Walk -Lisa Patterson ? \nCraft Stations:\nFace painting – Sara Armstrong \nTattoo Station –\nLego Station –\nBubble Station 
URL:https://troop26.net/troop-26-event/hollister-school-carnival-volunteer-oportunity/
LOCATION:Hollister School
CATEGORIES:Troop Event
END:VEVENT
BEGIN:VEVENT
DTSTART;TZID=America/Los_Angeles:20250527T190000
DTEND;TZID=America/Los_Angeles:20250527T203000
DTSTAMP:20260424T015213
CREATED:20241022T232934Z
LAST-MODIFIED:20250527T051400Z
UID:11859-1748372400-1748377800@troop26.net
SUMMARY:Skill session\, "F" Small Boat Sailing
DESCRIPTION:T26 TROOP MEETING
URL:https://troop26.net/troop-26-event/troop-meeting-154/
LOCATION:St Mark UMC
CATEGORIES:Troop Event
END:VEVENT
BEGIN:VEVENT
DTSTART;TZID=America/Los_Angeles:20250527T190000
DTEND;TZID=America/Los_Angeles:20250527T200000
DTSTAMP:20260424T015213
CREATED:20250521T041331Z
LAST-MODIFIED:20250527T051400Z
UID:12396-1748372400-1748376000@troop26.net
SUMMARY:BOR
DESCRIPTION:Scouts encouraged to contact SM to “get on the list” for BOR to enable rank progression / if all requirements have been met.
URL:https://troop26.net/troop-26-event/bor-25/
LOCATION:None
CATEGORIES:Troop Event
END:VEVENT
BEGIN:VEVENT
DTSTART;TZID=America/Los_Angeles:20250526T000000
DTEND;TZID=America/Los_Angeles:20250526T234500
DTSTAMP:20260424T015213
CREATED:20241022T232934Z
LAST-MODIFIED:20250527T051400Z
UID:11858-1748217600-1748303100@troop26.net
SUMMARY:MEMORIAL DAY
DESCRIPTION:HOLIDAY
URL:https://troop26.net/troop-26-event/memorial-day-3/
LOCATION:None
CATEGORIES:Troop Event
END:VEVENT
BEGIN:VEVENT
DTSTART;TZID=America/Los_Angeles:20250520T190000
DTEND;TZID=America/Los_Angeles:20250520T203000
DTSTAMP:20260424T015213
CREATED:20241022T232934Z
LAST-MODIFIED:20250519T035917Z
UID:11857-1747767600-1747773000@troop26.net
SUMMARY:Skill session\, "C" Camp Fishing
DESCRIPTION:T26 TROOP MEETING
URL:https://troop26.net/troop-26-event/troop-meeting-153/
LOCATION:St Mark UMC
CATEGORIES:Troop Event
END:VEVENT
BEGIN:VEVENT
DTSTART;TZID=America/Los_Angeles:20250517T070000
DTEND;TZID=America/Los_Angeles:20250518T150000
DTSTAMP:20260424T015213
CREATED:20241227T075911Z
LAST-MODIFIED:20250518T035727Z
UID:12111-1747465200-1747580400@troop26.net
SUMMARY:Overnight:  Horseshoe Bend (Hannotte & Weakliem)
DESCRIPTION:Meet at Big 5.  Packing List and other details to follow.
URL:https://troop26.net/troop-26-event/overnight-horseshoe-bend-hannotte-weakliem/
LOCATION:None
CATEGORIES:Troop Event
END:VEVENT
BEGIN:VEVENT
DTSTART;TZID=America/Los_Angeles:20250513T190000
DTEND;TZID=America/Los_Angeles:20250513T203000
DTSTAMP:20260424T015213
CREATED:20241023T234349Z
LAST-MODIFIED:20250513T032742Z
UID:11901-1747162800-1747168200@troop26.net
SUMMARY:BORs
DESCRIPTION:3-6 Parent Committee Volunteers needed for rank Board of Review
URL:https://troop26.net/troop-26-event/bors-36/
LOCATION:None
CATEGORIES:Troop Event
END:VEVENT
BEGIN:VEVENT
DTSTART;TZID=America/Los_Angeles:20250513T190000
DTEND;TZID=America/Los_Angeles:20250513T203000
DTSTAMP:20260424T015213
CREATED:20241022T232933Z
LAST-MODIFIED:20250513T032742Z
UID:11856-1747162800-1747168200@troop26.net
SUMMARY:TROOP MEETING (B) Water Safety
DESCRIPTION:T26 TROOP MEETING
URL:https://troop26.net/troop-26-event/troop-meeting-152/
LOCATION:St Mark UMC
CATEGORIES:Troop Event
END:VEVENT
BEGIN:VEVENT
DTSTART;TZID=America/Los_Angeles:20250513T180000
DTEND;TZID=America/Los_Angeles:20250513T190000
DTSTAMP:20260424T015213
CREATED:20250408T221324Z
LAST-MODIFIED:20250513T032742Z
UID:12312-1747159200-1747162800@troop26.net
SUMMARY:T26 Trail to First class\, training session
DESCRIPTION:Diego to lead a training session for younger Scouts (Colin too ?)
URL:https://troop26.net/troop-26-event/t26-trail-to-first-class-training-session/
LOCATION:None
CATEGORIES:Troop Event
END:VEVENT
BEGIN:VEVENT
DTSTART;TZID=America/Los_Angeles:20250512T190000
DTEND;TZID=America/Los_Angeles:20250512T203000
DTSTAMP:20260424T015213
CREATED:20241023T234348Z
LAST-MODIFIED:20250513T032742Z
UID:11899-1747076400-1747081800@troop26.net
SUMMARY:Greenbar Meeting
DESCRIPTION:Greenbar
URL:https://troop26.net/troop-26-event/greenbar-meeting-36/
LOCATION:Location was not specified
CATEGORIES:Troop Event
END:VEVENT
BEGIN:VEVENT
DTSTART;TZID=America/Los_Angeles:20250510T140000
DTEND;TZID=America/Los_Angeles:20250510T160000
DTSTAMP:20260424T015213
CREATED:20250426T011234Z
LAST-MODIFIED:20250510T031244Z
UID:12343-1746885600-1746892800@troop26.net
SUMMARY:10th Mental Wellness Event SB
DESCRIPTION:Service hours are available if you support this event\, Caio Pereira is our lead scout\, further details can be referenced here. https://mentalwellnesscenter.org/mwc-events/artful-minds-2025/
URL:https://troop26.net/troop-26-event/10th-mental-wellness-event-sb/
LOCATION:Mental Wellness Center -617 Garden St.
CATEGORIES:Troop Event
END:VEVENT
BEGIN:VEVENT
DTSTART;TZID=America/Los_Angeles:20250506T191500
DTEND;TZID=America/Los_Angeles:20250506T203000
DTSTAMP:20260424T015213
CREATED:20250107T093116Z
LAST-MODIFIED:20250507T024256Z
UID:12151-1746558900-1746563400@troop26.net
SUMMARY:Parent Committee Meeting (P) Campsite Management
DESCRIPTION:Monthly Parent Committee Meeting – First Tuesday at Saint Mark’s Church – 3942 La Colina Rd\, Santa Barbara\, CA 93110
URL:https://troop26.net/troop-26-event/parent-committee-meeting-21/
LOCATION:3942 La Colina Rd\, Santa Barbara\, CA\, United States
CATEGORIES:Troop Event
END:VEVENT
BEGIN:VEVENT
DTSTART;TZID=America/Los_Angeles:20250506T190000
DTEND;TZID=America/Los_Angeles:20250506T203000
DTSTAMP:20260424T015213
CREATED:20241022T232933Z
LAST-MODIFIED:20250507T024256Z
UID:11855-1746558000-1746563400@troop26.net
SUMMARY:TROOP MEETING (P) Campsite Mgmt
DESCRIPTION:T26 TROOP MEETING
URL:https://troop26.net/troop-26-event/troop-meeting-151/
LOCATION:St Mark UMC
CATEGORIES:Troop Event
END:VEVENT
BEGIN:VEVENT
DTSTART;TZID=America/Los_Angeles:20250504T080000
DTEND;TZID=America/Los_Angeles:20250504T093000
DTSTAMP:20260424T015213
CREATED:20241023T234348Z
LAST-MODIFIED:20250504T022754Z
UID:11900-1746345600-1746351000@troop26.net
SUMMARY:Canoeing
DESCRIPTION:CHANGE IN PLANS FOR THIS SUNDAY MORNING:  Because of the limited canoeing resources at Cachuma\, we will instead do a dryland training/education session at Tucker’s Grove\, 8am Sunday May 4.  All participants can earn the Canoeing MB by attending these sessions.  If you don’t have the MB and would like to earn it\, please be sure to ask Mr. Hey for approval of the MB application in Scoutbook and to assign me as your counselor.  \nIf we do these dryland trainings\, we’ll be ready for our new fleet of canoes which will come when the Scouts have raised the $$ to buy them (over $700 raised so far!).\nI hope to see you all Sunday morning.\nWarmly yours in Scouting\,\nNancy Schley\, ASM
URL:https://troop26.net/troop-26-event/canoeing-14/
LOCATION:Tucker’s Grove
CATEGORIES:Troop Event
END:VEVENT
BEGIN:VEVENT
DTSTART;TZID=America/Los_Angeles:20250502T190000
DTEND;TZID=America/Los_Angeles:20250502T210000
DTSTAMP:20260424T015213
CREATED:20250411T224245Z
LAST-MODIFIED:20250503T021356Z
UID:12323-1746212400-1746219600@troop26.net
SUMMARY:Eamon Gordon Eagle COH
DESCRIPTION:We encourage ALL Scouts to come to each Eagle Court of Honor.  You will learn about the path this Scout has followed to success\, and you can join in the troop celebration.  Here is the invitation from the Gordon family:\nDear Troop 26 Members and Friends\,\nPlease join us if you can to celebrate Eamon Gordon’s Eagle Scout Court of Honor on Friday\, May 2 at 7pm in St. Mark United Methodist Church! \nKindly RSVP using this link  by Monday\, April 28. If you have any questions\, feel free to reach out to Matt Gordon (mattkgordon01@gmail.com\, 805-279-6123).\nWe hope to see you there!\nThanks\,\nMatt
URL:https://troop26.net/troop-26-event/eamon-gordon-eagle-coh/
LOCATION:St Mark Church
CATEGORIES:Troop Event
END:VEVENT
BEGIN:VEVENT
DTSTART;TZID=America/Los_Angeles:20250429T190000
DTEND;TZID=America/Los_Angeles:20250429T203000
DTSTAMP:20260424T015213
CREATED:20241022T232933Z
LAST-MODIFIED:20250430T014506Z
UID:11854-1745953200-1745958600@troop26.net
SUMMARY:TROOP MEETING (F) Wilderness Survival
DESCRIPTION:T26 TROOP MEETING
URL:https://troop26.net/troop-26-event/troop-meeting-150/
LOCATION:St Mark UMC
CATEGORIES:Troop Event
END:VEVENT
BEGIN:VEVENT
DTSTART;TZID=America/Los_Angeles:20250429T190000
DTEND;TZID=America/Los_Angeles:20250429T200000
DTSTAMP:20260424T015213
CREATED:20250412T224235Z
LAST-MODIFIED:20250430T014506Z
UID:12326-1745953200-1745956800@troop26.net
SUMMARY:BORs
DESCRIPTION:Board of Review for rank advancement
URL:https://troop26.net/troop-26-event/bors-44/
LOCATION:None
CATEGORIES:Troop Event
END:VEVENT
BEGIN:VEVENT
DTSTART;TZID=America/Los_Angeles:20250426T070000
DTEND;TZID=America/Los_Angeles:20250426T110000
DTSTAMP:20260424T015213
CREATED:20241227T075910Z
LAST-MODIFIED:20250426T011233Z
UID:12110-1745650800-1745665200@troop26.net
SUMMARY:Gaviota Peak (Patton & Renehan)
DESCRIPTION:Meet at Big 5.  Bring ten essentials.  Be prepared for the weather.  Have fun!
URL:https://troop26.net/troop-26-event/gaviota-peak-patton-renehan/
LOCATION:Gaviota Peak
CATEGORIES:Troop Event
END:VEVENT
BEGIN:VEVENT
DTSTART;TZID=America/Los_Angeles:20250422T180000
DTEND;TZID=America/Los_Angeles:20250422T200000
DTSTAMP:20260424T015213
CREATED:20241022T232921Z
LAST-MODIFIED:20250423T004241Z
UID:11853-1745344800-1745352000@troop26.net
SUMMARY:TROOP COURT OF HONOR & POTLUCK
DESCRIPTION:Hi Scouts and Families\,\nTroop 26 has a tradition of a potluck at the Spring Court of Honor (COH). This years Spring COH is scheduled for Tuesday at 6:00 pm on April 22\, 2025 at the troop room.\nPlease join your fellow Scouts families by bringing a potluck item to share with the Troop 26 families and Scouts.\nEach family is encouraged to bring a dish for 10 people\, per the following suggested groupings:\n– Panther Patrol – Side Dishes\n– Bats and Crocs Patrols – Main Dishes\n– Fox Patrol – Desserts\nWater and lemonade will be provided for drinks. \nPlease contact me if you have questions at bethannacornett@yahoo.com or text (415) 729-1193.\nBest\,\nBeth Anna Cornett 
URL:https://troop26.net/troop-26-event/troop-meeting-149/
LOCATION:St Mark UMC
CATEGORIES:Troop Event
END:VEVENT
BEGIN:VEVENT
DTSTART;TZID=America/Los_Angeles:20250415T190000
DTEND;TZID=America/Los_Angeles:20250415T203000
DTSTAMP:20260424T015213
CREATED:20241022T232921Z
LAST-MODIFIED:20250415T225734Z
UID:11852-1744743600-1744749000@troop26.net
SUMMARY:TROOP MEETING (C) Advancement
DESCRIPTION:T26 TROOP MEETING
URL:https://troop26.net/troop-26-event/troop-meeting-148/
LOCATION:St Mark UMC
CATEGORIES:Troop Event
END:VEVENT
BEGIN:VEVENT
DTSTART;TZID=America/Los_Angeles:20250413T133000
DTEND;TZID=America/Los_Angeles:20250413T153000
DTSTAMP:20260424T015213
CREATED:20250312T191250Z
LAST-MODIFIED:20250412T224235Z
UID:12264-1744551000-1744558200@troop26.net
SUMMARY:Ice Skating Merit Badge makeup
DESCRIPTION:If you are currently enrolled in the skating merit badge\, but still have some requirements that have yet to be completed. Mr. Weakliem and I will be holding a makeup session on April 13th at 1:30 PM. We will be skating on the ice\, so please bring any appropriate safety equipment to you skating level\, such as a helmet or knee pads. We will be working to finish up the requirements\, so please plan for 1-2 hours in order for the scouts to have the time to practice and complete the skills required. I’d also encourage you to attend 1-2 public sessions beforehand to practice some of the skills as well.\nWhat: Ice Skating Merit Badge Makeup Session\nWhen: April 13th at 1:30 pm\nWhere: Ice in Paradise 6985 Santa Felicia Dr\, Goleta\, CA 93117
URL:https://troop26.net/troop-26-event/ice-skating-merit-badge-makeup/
LOCATION:Location was not specified
CATEGORIES:Troop Event
END:VEVENT
END:VCALENDAR