BEGIN:VCALENDAR
VERSION:2.0
PRODID:-//Troop 26 - ECPv6.15.20//NONSGML v1.0//EN
CALSCALE:GREGORIAN
METHOD:PUBLISH
X-WR-CALNAME:Troop 26
X-ORIGINAL-URL:https://troop26.net
X-WR-CALDESC:Events for Troop 26
REFRESH-INTERVAL;VALUE=DURATION:PT1H
X-Robots-Tag:noindex
X-PUBLISHED-TTL:PT1H
BEGIN:VTIMEZONE
TZID:America/Los_Angeles
BEGIN:DAYLIGHT
TZOFFSETFROM:-0800
TZOFFSETTO:-0700
TZNAME:PDT
DTSTART:20240310T100000
END:DAYLIGHT
BEGIN:STANDARD
TZOFFSETFROM:-0700
TZOFFSETTO:-0800
TZNAME:PST
DTSTART:20241103T090000
END:STANDARD
BEGIN:DAYLIGHT
TZOFFSETFROM:-0800
TZOFFSETTO:-0700
TZNAME:PDT
DTSTART:20250309T100000
END:DAYLIGHT
BEGIN:STANDARD
TZOFFSETFROM:-0700
TZOFFSETTO:-0800
TZNAME:PST
DTSTART:20251102T090000
END:STANDARD
BEGIN:DAYLIGHT
TZOFFSETFROM:-0800
TZOFFSETTO:-0700
TZNAME:PDT
DTSTART:20260308T100000
END:DAYLIGHT
BEGIN:STANDARD
TZOFFSETFROM:-0700
TZOFFSETTO:-0800
TZNAME:PST
DTSTART:20261101T090000
END:STANDARD
END:VTIMEZONE
BEGIN:VEVENT
DTSTART;TZID=America/Los_Angeles:20250401T190000
DTEND;TZID=America/Los_Angeles:20250401T203000
DTSTAMP:20260425T092502
CREATED:20241022T232920Z
LAST-MODIFIED:20250401T214231Z
UID:11850-1743534000-1743539400@troop26.net
SUMMARY:TROOP MEETING (P) Plant ID
DESCRIPTION:T26 TROOP MEETING
URL:https://troop26.net/troop-26-event/troop-meeting-146/
LOCATION:St Mark UMC
CATEGORIES:Troop Event
END:VEVENT
BEGIN:VEVENT
DTSTART;TZID=America/Los_Angeles:20250401T180000
DTEND;TZID=America/Los_Angeles:20250401T184500
DTSTAMP:20260425T092502
CREATED:20250318T195729Z
LAST-MODIFIED:20250401T214231Z
UID:12274-1743530400-1743533100@troop26.net
SUMMARY:Trail to First Class
DESCRIPTION:All Scouts who want to work on advancement (Scout\, Tenderfoot\, 2nd Class\, 1st Class) can meet with Troop Guides Diego Rodriguez and Colin Renehan to get signoffs.  No RSVP required\, just show up!
URL:https://troop26.net/troop-26-event/trail-to-first-class-3/
LOCATION:St. Mark Church
CATEGORIES:Troop Event
END:VEVENT
BEGIN:VEVENT
DTSTART;TZID=America/Los_Angeles:20250329T110000
DTEND;TZID=America/Los_Angeles:20250329T143000
DTSTAMP:20260425T092502
CREATED:20250318T195728Z
LAST-MODIFIED:20250329T205738Z
UID:12272-1743246000-1743258600@troop26.net
SUMMARY:Community Service for Veterans
DESCRIPTION:TO:  All Troop 26 Scouts (and adults)\nWe are one of three troops asked to help with a Ceremony commemorating Vietnam Veterans on March 29.  This is being organized by Leo Brownstein of Troop 33 (some of you have worked with MB counselor Mrs. Brownstein\, his mother).  I have told him that our Scouts have another event during his 9:00a setup shift\, but he is hoping that 3-5 of us can be there for the ceremony and cleanup shifts (below).  IF YOU WOULD LIKE TO PARTICIPATE\, PLEASE CONTACT LEO DIRECTLY (contact info below) BY MARCH 24.  There will be community service hours for this work.\nMr. Schley\, SM\n————————————\nDear Scouts\,\n Please volunteer to help the American Legion hold a ceremony and reception for 150+ Vietnam veterans. I need 3-5 scouts for each shift.\nVietnam Veterans’ Day Commemoration and Flag Retirement Ceremony\, March 29\, 2025\, Veterans’ Memorial Building 112 W Cabrillo Blvd.  Shifts:\nceremony/reception – 11am-1pm\ncleanup – 12:30-2:30pm\nRSVP to me by March 24th – \nplease include your contact information (phone and email)\nThank you so much for stepping up and helping the veterans in our community.\nSincerely\, Leo Brownstein\, Life Scout\, Troop 33\n805-451-8673\, banjodog93@gmail.com
URL:https://troop26.net/troop-26-event/community-service-for-veterans/
LOCATION:Location was not specified
CATEGORIES:Troop Event
END:VEVENT
BEGIN:VEVENT
DTSTART;TZID=America/Los_Angeles:20250329T080000
DTEND;TZID=America/Los_Angeles:20250329T110000
DTSTAMP:20260425T092502
CREATED:20250318T195728Z
LAST-MODIFIED:20250328T205756Z
UID:12273-1743235200-1743246000@troop26.net
SUMMARY:Gate Building Practice
DESCRIPTION:Show up in Class B (yellow T-Shirts) to practice building the Gate for our Camporee campsite.  No RSVP required\, just show up!
URL:https://troop26.net/troop-26-event/gate-building-practice/
LOCATION:Tucker’s Grove
CATEGORIES:Troop Event
END:VEVENT
BEGIN:VEVENT
DTSTART;TZID=America/Los_Angeles:20250325T190000
DTEND;TZID=America/Los_Angeles:20250325T203000
DTSTAMP:20260425T092502
CREATED:20241022T232920Z
LAST-MODIFIED:20250325T202816Z
UID:11848-1742929200-1742934600@troop26.net
SUMMARY:NO TROOP MEETING
DESCRIPTION:T26 TROOP MEETING
URL:https://troop26.net/troop-26-event/troop-meeting-145/
LOCATION:St Mark UMC
CATEGORIES:Troop Event
END:VEVENT
BEGIN:VEVENT
DTSTART;TZID=America/Los_Angeles:20250322T174500
DTEND;TZID=America/Los_Angeles:20250330T184500
DTSTAMP:20260425T092502
CREATED:20241022T232920Z
LAST-MODIFIED:20250330T211238Z
UID:11849-1742665500-1743360300@troop26.net
SUMMARY:SBUSD SPRING BREAK
DESCRIPTION:HOLIDAY
URL:https://troop26.net/troop-26-event/sbusd-spring-break-3/
LOCATION:None
CATEGORIES:Troop Event
END:VEVENT
BEGIN:VEVENT
DTSTART;TZID=America/Los_Angeles:20250322T000000
DTEND;TZID=America/Los_Angeles:20250326T234500
DTSTAMP:20260425T092502
CREATED:20241227T075856Z
LAST-MODIFIED:20250326T204232Z
UID:12109-1742601600-1743032700@troop26.net
SUMMARY:Bike Trip (Scholl)
DESCRIPTION:The last day to sign up for this event is March 11 at the Troop meeting.  Scouts will organize into cooking patrols and tent partners at that time.\nScouts are required to go on one preparation ride on 3/8\, 3/9\, 3/15\, or 3/16 prior to the trip.  These rides will assess the capability of the scouts and their bikes for the trip.\nThere will be a bike trek at Carrizo Plain on March 22-26\, Saturday through Wednesday. The area will be in the Padrone Canyon Road and Wells Ranch ruins areas\, which are in the southern part of the Plain. The terrain covered will be gentle slopes and flat areas over dirt roads in good condition. We will trek between two base camps and on day trips around them. Scouts will carry only gear and food needed for the day’s trek. We will need support in the form of vehicles to transport bikes and gear to and from the Plain and between the base camps. In addition\, we will need to supply all of our water and firewood for evening campfires. There are no fire restrictions for the Plain except for reasonable precautions in using fire. Scouts\, and adults who ride\, will need mountain style bikes with at least 2.1″ tires and 2 liters of water to carry each day. All scouts should be able to do this trek and there will be several troop bike rides before then to assess and improve rider and bike capability. The trek and preparation rides will provide ample time to satisfy requirements for ranks through first class and Cycling\, Cooking\, Camping merit badges. There will be dutch oven cooking for those who wish to do so.\nWe may be able to schedule a visit to Wallace Creek\, where the shift in the San Andreas fault is visible on the landforms. Also\, flowers may be out at this time.\nScouts and adults are urged to sign up as soon as possible in order to make plans for the necessary vehicles and patrol cooking.\nFor further information reply to Richardscholl@hotmail.com
URL:https://troop26.net/troop-26-event/bike-trip-scholl/
LOCATION:Location was not specified
CATEGORIES:Troop Event
END:VEVENT
BEGIN:VEVENT
DTSTART;TZID=America/Los_Angeles:20250318T190000
DTEND;TZID=America/Los_Angeles:20250318T203000
DTSTAMP:20260425T092502
CREATED:20241022T232919Z
LAST-MODIFIED:20250318T195728Z
UID:11847-1742324400-1742329800@troop26.net
SUMMARY:TROOP MEETING (F) Lashings
DESCRIPTION:T26 TROOP MEETING
URL:https://troop26.net/troop-26-event/troop-meeting-144/
LOCATION:St Mark UMC
CATEGORIES:Troop Event
END:VEVENT
BEGIN:VEVENT
DTSTART;TZID=America/Los_Angeles:20250311T190000
DTEND;TZID=America/Los_Angeles:20250311T203000
DTSTAMP:20260425T092502
CREATED:20241023T234324Z
LAST-MODIFIED:20250311T191243Z
UID:11896-1741719600-1741725000@troop26.net
SUMMARY:BORs
DESCRIPTION:3-6 Parent Committee Volunteers needed for rank Board of Review
URL:https://troop26.net/troop-26-event/bors-34/
LOCATION:None
CATEGORIES:Troop Event
END:VEVENT
BEGIN:VEVENT
DTSTART;TZID=America/Los_Angeles:20250311T190000
DTEND;TZID=America/Los_Angeles:20250311T203000
DTSTAMP:20260425T092502
CREATED:20241022T232919Z
LAST-MODIFIED:20250311T191243Z
UID:11846-1741719600-1741725000@troop26.net
SUMMARY:TROOP MEETING (C) Patrol Method
DESCRIPTION:T26 TROOP MEETING
URL:https://troop26.net/troop-26-event/troop-meeting-143/
LOCATION:St Mark UMC
CATEGORIES:Troop Event
END:VEVENT
BEGIN:VEVENT
DTSTART;TZID=America/Los_Angeles:20250310T190000
DTEND;TZID=America/Los_Angeles:20250310T203000
DTSTAMP:20260425T092502
CREATED:20241023T234323Z
LAST-MODIFIED:20250310T191251Z
UID:11893-1741633200-1741638600@troop26.net
SUMMARY:Greenbar Meeting
DESCRIPTION:Greenbar
URL:https://troop26.net/troop-26-event/greenbar-meeting-34/
LOCATION:Location was not specified
CATEGORIES:Troop Event
END:VEVENT
BEGIN:VEVENT
DTSTART;TZID=America/Los_Angeles:20250309T080000
DTEND;TZID=America/Los_Angeles:20250309T100000
DTSTAMP:20260425T092502
CREATED:20241023T234324Z
LAST-MODIFIED:20250308T191234Z
UID:11895-1741507200-1741514400@troop26.net
SUMMARY:Canoeing
DESCRIPTION:SIGNUPS ARE NOW CLOSED.  WE HAVE A SHORTAGE OF CANOES AND CANNOT TAKE MORE SCOUTS ON THIS DAY.\nCome learn or practice Canoeing skills!  There’s nothing more beautiful than a morning spent paddling on Lake Cachuma.  Seats are limited\, so RSVP.  You must have passed the BSA Swim Test to participate.  Bring a jacket\, water bottle\, sunscreen\, a hat and sunglasses\, and $15.
URL:https://troop26.net/troop-26-event/canoeing-13/
LOCATION:Cachuma Lake Waterfront
CATEGORIES:Troop Event
END:VEVENT
BEGIN:VEVENT
DTSTART;TZID=America/Los_Angeles:20250304T191500
DTEND;TZID=America/Los_Angeles:20250304T203000
DTSTAMP:20260425T092502
CREATED:20250107T093047Z
LAST-MODIFIED:20250304T183835Z
UID:12149-1741115700-1741120200@troop26.net
SUMMARY:Parent Committee Meeting
DESCRIPTION:Monthly Parent Committee Meeting – First Tuesday at Saint Mark’s Church – 3942 La Colina Rd\, Santa Barbara\, CA 93110
URL:https://troop26.net/troop-26-event/parent-committee-meeting-19/
LOCATION:3942 La Colina Rd\, Santa Barbara\, CA\, United States
CATEGORIES:Troop Event
END:VEVENT
BEGIN:VEVENT
DTSTART;TZID=America/Los_Angeles:20250304T190000
DTEND;TZID=America/Los_Angeles:20250304T203000
DTSTAMP:20260425T092502
CREATED:20241022T232919Z
LAST-MODIFIED:20250304T183835Z
UID:11845-1741114800-1741120200@troop26.net
SUMMARY:TROOP MEETING (B) First Aid
DESCRIPTION:T26 TROOP MEETING
URL:https://troop26.net/troop-26-event/troop-meeting-142/
LOCATION:St Mark UMC
CATEGORIES:Troop Event
END:VEVENT
BEGIN:VEVENT
DTSTART;TZID=America/Los_Angeles:20250303T174500
DTEND;TZID=America/Los_Angeles:20250303T184500
DTSTAMP:20260425T092502
CREATED:20241022T232905Z
LAST-MODIFIED:20250303T182253Z
UID:11844-1741023900-1741027500@troop26.net
SUMMARY:SBUSD NO SCHOOL
DESCRIPTION:HOLIDAY
URL:https://troop26.net/troop-26-event/sbusd-no-school/
LOCATION:None
CATEGORIES:Troop Event
END:VEVENT
BEGIN:VEVENT
DTSTART;TZID=America/Los_Angeles:20250301T000000
DTEND;TZID=America/Los_Angeles:20250302T234500
DTSTAMP:20260425T092502
CREATED:20241104T014357Z
LAST-MODIFIED:20250302T181453Z
UID:11941-1740787200-1740959100@troop26.net
SUMMARY:USS Iowa Overnight (Hey & Scholl)
DESCRIPTION:THIS EVENT IS CURRENTLY AT CAPACITY.  PLEASE LET MR. RENEHAN KNOW IF YOU WOULD LIKE TO BE PLACED ON A WAITING LIST\, OR IF YOU INTEND TO CANCEL.\nHere is a brief itinerary:\n1) Meet at Big5 on March 1 at 1000.\n2) Drive to Angels Gate Park in San Pedro\, California\n3) Eat a sack lunch at the Korean Friendship Bell (cool really big bell with a nice view)\n4) Visit the Fort MacArthur WWII Museum (LINK) (this is the location of the big gun emplacements that protected LA harbor through many wars)\n5) Drive to the USS Iowa for the program to start at 4:30 pm\n6) Guided tours and activities\n7) Dinner on board is provided\n8) Sleep on board in the sailor bunks\n9) Morning colors\n10) Breakfast on the ship\n11) Drive home\n12) Home around 1200 on March 2. \nClass A’s will be worn.
URL:https://troop26.net/troop-26-event/uss-iowa-overnight-renehan-scholl/
LOCATION:Location was not specified
CATEGORIES:Troop Event
END:VEVENT
BEGIN:VEVENT
DTSTART;TZID=America/Los_Angeles:20250225T190000
DTEND;TZID=America/Los_Angeles:20250225T203000
DTSTAMP:20260425T092502
CREATED:20241022T232905Z
LAST-MODIFIED:20250225T171606Z
UID:11843-1740510000-1740515400@troop26.net
SUMMARY:TROOP MEETING (P) Flag Ceremony
DESCRIPTION:T26 TROOP MEETING
URL:https://troop26.net/troop-26-event/troop-meeting-141/
LOCATION:St Mark UMC
CATEGORIES:Troop Event
END:VEVENT
BEGIN:VEVENT
DTSTART;TZID=America/Los_Angeles:20250218T190000
DTEND;TZID=America/Los_Angeles:20250218T203000
DTSTAMP:20260425T092502
CREATED:20241022T232905Z
LAST-MODIFIED:20250218T162744Z
UID:11842-1739905200-1739910600@troop26.net
SUMMARY:TROOP MEETING (B) Orienteering
DESCRIPTION:T26 TROOP MEETING
URL:https://troop26.net/troop-26-event/troop-meeting-140/
LOCATION:St Mark UMC
CATEGORIES:Troop Event
END:VEVENT
BEGIN:VEVENT
DTSTART;TZID=America/Los_Angeles:20250217T000000
DTEND;TZID=America/Los_Angeles:20250217T234500
DTSTAMP:20260425T092502
CREATED:20241022T232905Z
LAST-MODIFIED:20250217T162737Z
UID:11840-1739750400-1739835900@troop26.net
SUMMARY:PRESIDENTS' DAY
DESCRIPTION:HOLIDAY
URL:https://troop26.net/troop-26-event/presidents-day/
LOCATION:None
CATEGORIES:Troop Event
END:VEVENT
BEGIN:VEVENT
DTSTART;TZID=America/Los_Angeles:20250215T000000
DTEND;TZID=America/Los_Angeles:20250217T234500
DTSTAMP:20260425T092502
CREATED:20241101T012910Z
LAST-MODIFIED:20250217T162737Z
UID:11937-1739577600-1739835900@troop26.net
SUMMARY:Forbush & Cottam Backpack (Scholl/Hey)
DESCRIPTION:This is a 2 night backpack on the north side of the Santa Ynez mtns.  The trek is 3.6 miles out and back from east Camino Cielo above Santa Barbara.  This is an opportunity to pass requirements for ranks and merit badges-Cooking\, Camping\, Backpacking.  Sign up soon so we can plan cooking patrols and transportation
URL:https://troop26.net/troop-26-event/forbush-cottam-backpack-scholl-hey/
LOCATION:Location was not specified
CATEGORIES:Troop Event
END:VEVENT
BEGIN:VEVENT
DTSTART;TZID=America/Los_Angeles:20250214T000000
DTEND;TZID=America/Los_Angeles:20250217T234500
DTSTAMP:20260425T092502
CREATED:20241022T232905Z
LAST-MODIFIED:20250217T162737Z
UID:11841-1739491200-1739835900@troop26.net
SUMMARY:PRESIDENTS' BDAY WEEKEND
DESCRIPTION:HOLIDAY
URL:https://troop26.net/troop-26-event/presidents-bday-weekend/
LOCATION:Location was not specified
CATEGORIES:Troop Event
END:VEVENT
BEGIN:VEVENT
DTSTART;TZID=America/Los_Angeles:20250211T190000
DTEND;TZID=America/Los_Angeles:20250211T203000
DTSTAMP:20260425T092502
CREATED:20241023T234311Z
LAST-MODIFIED:20250211T152936Z
UID:11892-1739300400-1739305800@troop26.net
SUMMARY:BORs
DESCRIPTION:3-6 Parent Committee Volunteers needed for rank Board of Review
URL:https://troop26.net/troop-26-event/bors-33/
LOCATION:None
CATEGORIES:Troop Event
END:VEVENT
BEGIN:VEVENT
DTSTART;TZID=America/Los_Angeles:20250211T190000
DTEND;TZID=America/Los_Angeles:20250211T203000
DTSTAMP:20260425T092502
CREATED:20241022T232904Z
LAST-MODIFIED:20250211T152936Z
UID:11839-1739300400-1739305800@troop26.net
SUMMARY:TROOP MEETING (F) Fire Starting
DESCRIPTION:T26 TROOP MEETING/TLC Election Day
URL:https://troop26.net/troop-26-event/troop-meeting-139/
LOCATION:St Mark UMC
CATEGORIES:Troop Event
END:VEVENT
BEGIN:VEVENT
DTSTART;TZID=America/Los_Angeles:20250208T080000
DTEND;TZID=America/Los_Angeles:20250208T120000
DTSTAMP:20260425T092502
CREATED:20250108T094408Z
LAST-MODIFIED:20250208T151310Z
UID:12163-1739001600-1739016000@troop26.net
SUMMARY:Greenbar Training
DESCRIPTION:Hello new Scout Leaders!\nThis session will be mandatory training for all new leaders.  If you have already been through some Greenbar training in the past\, you should still come to this session because some of the material will be new and it will be a good refresher for the rest.\nThis training course is following the curriculum for BSA’s ILST (Introduction to Leadership Skills for Troops) certificate.  Youth leaders who complete the training will wear a “Trained” patch on their uniforms and will be eligible to participate in the next-level program\, NYLT (National Youth Leadership Training) offered this summer at Rancho Alegre.  These are good ways to build leadership skills that will help you help others throughout your life.\nAnd\, there will be doughnuts (provided by the SPL on arrival) and pizza (provided by the Scoutmaster at noon)!\nRSVP in the Scoutbook Calendar so that we can prepare accordingly.\nMike Schley\, SM
URL:https://troop26.net/troop-26-event/greenbar-training-3/
LOCATION:St. Mark Church
CATEGORIES:Troop Event
END:VEVENT
BEGIN:VEVENT
DTSTART;TZID=America/Los_Angeles:20250204T191500
DTEND;TZID=America/Los_Angeles:20250204T203000
DTSTAMP:20260425T092502
CREATED:20250107T093033Z
LAST-MODIFIED:20250204T142742Z
UID:12148-1738696500-1738701000@troop26.net
SUMMARY:Parent Committee Meeting
DESCRIPTION:Monthly Parent Committee Meeting – First Tuesday at Saint Mark’s Church – 3942 La Colina Rd\, Santa Barbara\, CA 93110
URL:https://troop26.net/troop-26-event/parent-committee-meeting-18/
LOCATION:3942 La Colina Rd\, Santa Barbara\, CA\, United States
CATEGORIES:Troop Event
END:VEVENT
BEGIN:VEVENT
DTSTART;TZID=America/Los_Angeles:20250204T190000
DTEND;TZID=America/Los_Angeles:20250204T203000
DTSTAMP:20260425T092502
CREATED:20241022T232904Z
LAST-MODIFIED:20250204T142742Z
UID:11838-1738695600-1738701000@troop26.net
SUMMARY:TROOP MEETING (C) Knots
DESCRIPTION:T26 TROOP MEETING
URL:https://troop26.net/troop-26-event/troop-meeting-138/
LOCATION:St Mark UMC
CATEGORIES:Troop Event
END:VEVENT
BEGIN:VEVENT
DTSTART;TZID=America/Los_Angeles:20250203T190000
DTEND;TZID=America/Los_Angeles:20250203T203000
DTSTAMP:20260425T092502
CREATED:20241023T234310Z
LAST-MODIFIED:20250203T141655Z
UID:11891-1738609200-1738614600@troop26.net
SUMMARY:Greenbar Meeting
DESCRIPTION:Greenbar
URL:https://troop26.net/troop-26-event/greenbar-meeting-33/
LOCATION:None
CATEGORIES:Troop Event
END:VEVENT
BEGIN:VEVENT
DTSTART;TZID=America/Los_Angeles:20250201T150000
DTEND;TZID=America/Los_Angeles:20250201T190000
DTSTAMP:20260425T092502
CREATED:20241101T012910Z
LAST-MODIFIED:20250201T135918Z
UID:11936-1738422000-1738436400@troop26.net
SUMMARY:Jesusita Sunset Hike (Armstrong/Perez)
DESCRIPTION:Scouts and Scouters\,\nThis is a wonderful 7-mile hike on a riparian trail up to a scenic lookout with panoramic views. 3.5miles out\, all uphill with the second and third mile being quite steep. 3.5miles back\, all downhill. Meet at the trailhead by Cater Water Treatment plant on North San Roque Rd. Start time moved earlier to 3pm to make sure we catch the sunset. That should give us time to get to Inspiration point\, enjoy sunset\, have a snack\, rest\, then get part way down in twilight before we switch on headtorches. This is great training for Sierra Trek and scouts that are going on that are expected to join this hike. Bring your essentials\, especially 2 liters of water and a snack/meal for the top. Wear sensible clothing: good hiking boots\, layers\, and a hat. Bring sunscreen\, and a raincoat just in case\, could be hot to start and cold on the way back.  Bring a headlamp and spare batteries\, for the nighttime hike back.\nMessrs. Armstrong & Perez
URL:https://troop26.net/troop-26-event/jesusita-sunset-hike-armstrong-perez/
LOCATION:Trailhead by Cater Water Treatment Plant
CATEGORIES:Troop Event
END:VEVENT
BEGIN:VEVENT
DTSTART;TZID=America/Los_Angeles:20250131T190000
DTEND;TZID=America/Los_Angeles:20250131T210000
DTSTAMP:20260425T092502
CREATED:20241219T072907Z
LAST-MODIFIED:20250131T134415Z
UID:12020-1738350000-1738357200@troop26.net
SUMMARY:Logan & Miles Dentinger Eagle COH
DESCRIPTION:From your Scoutmaster:\nScouts and families\, I strongly urge you to sign up for this event Friday night.  Every Scout can learn from this ceremony and be inspired by the Scouting careers of Logan and Miles Dentinger.\nPlus\, it’s fun\, and there will be a great cake and refreshments!\nSee you there\,\nMr. Schley\n——————————————-\nThe family of Logan and Miles Dentinger invite all Troop 26 families and leaders to their Eagle Court of Honor.\nPlease join us in the St. Mark’s sanctuary to honor Logan and Miles as they receive the highest rank award in Scouting\, and please come to the reception immediately after in Clemens Hall for cake and light refreshments.\n And\, please RSVP to the event\, in Scoutbook\, so that we can plan accordingly. \nBrenda and Matt Dentinger
URL:https://troop26.net/troop-26-event/logan-miles-dentinger-eagle-coh/
LOCATION:St. Mark Church
CATEGORIES:Troop Event
END:VEVENT
BEGIN:VEVENT
DTSTART;TZID=America/Los_Angeles:20250128T190000
DTEND;TZID=America/Los_Angeles:20250128T203000
DTSTAMP:20260425T092502
CREATED:20241022T232904Z
LAST-MODIFIED:20250128T132746Z
UID:11837-1738090800-1738096200@troop26.net
SUMMARY:TROOP MEETING (B) Orienteering
DESCRIPTION:T26 TROOP MEETING
URL:https://troop26.net/troop-26-event/troop-meeting-137/
LOCATION:St Mark UMC
CATEGORIES:Troop Event
END:VEVENT
END:VCALENDAR