BEGIN:VCALENDAR
VERSION:2.0
PRODID:-//Troop 26 - ECPv6.15.20//NONSGML v1.0//EN
CALSCALE:GREGORIAN
METHOD:PUBLISH
X-WR-CALNAME:Troop 26
X-ORIGINAL-URL:https://troop26.net
X-WR-CALDESC:Events for Troop 26
REFRESH-INTERVAL;VALUE=DURATION:PT1H
X-Robots-Tag:noindex
X-PUBLISHED-TTL:PT1H
BEGIN:VTIMEZONE
TZID:America/Los_Angeles
BEGIN:DAYLIGHT
TZOFFSETFROM:-0800
TZOFFSETTO:-0700
TZNAME:PDT
DTSTART:20250309T100000
END:DAYLIGHT
BEGIN:STANDARD
TZOFFSETFROM:-0700
TZOFFSETTO:-0800
TZNAME:PST
DTSTART:20251102T090000
END:STANDARD
BEGIN:DAYLIGHT
TZOFFSETFROM:-0800
TZOFFSETTO:-0700
TZNAME:PDT
DTSTART:20260308T100000
END:DAYLIGHT
BEGIN:STANDARD
TZOFFSETFROM:-0700
TZOFFSETTO:-0800
TZNAME:PST
DTSTART:20261101T090000
END:STANDARD
BEGIN:DAYLIGHT
TZOFFSETFROM:-0800
TZOFFSETTO:-0700
TZNAME:PDT
DTSTART:20270314T100000
END:DAYLIGHT
BEGIN:STANDARD
TZOFFSETFROM:-0700
TZOFFSETTO:-0800
TZNAME:PST
DTSTART:20271107T090000
END:STANDARD
END:VTIMEZONE
BEGIN:VEVENT
DTSTART;TZID=America/Los_Angeles:20260505T180000
DTEND;TZID=America/Los_Angeles:20260505T190000
DTSTAMP:20260424T070538
CREATED:20260311T105739Z
LAST-MODIFIED:20260423T154256Z
UID:13133-1778004000-1778007600@troop26.net
SUMMARY:Personal Management Merit Badge Class 6PM
DESCRIPTION:6 week Personal Management Merit Badge Class led by ASM Mr. Longo. Please watch your email for your weekly assignments. We will be meeting in the Conference room at St. Mark’s.
URL:https://troop26.net/troop-26-event/personal-management-merit-badge-class-6pm-3/
LOCATION:St. Mark’s 3942 La Colina Rd
CATEGORIES:Troop Event
END:VEVENT
BEGIN:VEVENT
DTSTART;TZID=America/Los_Angeles:20260505T190000
DTEND;TZID=America/Los_Angeles:20260505T203000
DTSTAMP:20260424T070538
CREATED:20250506T023149Z
LAST-MODIFIED:20260423T154256Z
UID:12370-1778007600-1778013000@troop26.net
SUMMARY:TROOP MEETING
DESCRIPTION:T26 TROOP MEETING
URL:https://troop26.net/troop-26-event/troop-meeting-199/
LOCATION:St Mark UMC
CATEGORIES:Troop Event
END:VEVENT
BEGIN:VEVENT
DTSTART;TZID=America/Los_Angeles:20260505T191500
DTEND;TZID=America/Los_Angeles:20260505T201500
DTSTAMP:20260424T070538
CREATED:20260407T142824Z
LAST-MODIFIED:20260423T154256Z
UID:13175-1778008500-1778012100@troop26.net
SUMMARY:Parent Committee Meeting
DESCRIPTION:Parent Committee meetings are on the first Tuesday of the month.
URL:https://troop26.net/troop-26-event/parent-committee-meeting-32/
LOCATION:None
CATEGORIES:Troop Event
END:VEVENT
BEGIN:VEVENT
DTSTART;TZID=America/Los_Angeles:20260512T180000
DTEND;TZID=America/Los_Angeles:20260512T190000
DTSTAMP:20260424T070538
CREATED:20260311T105739Z
LAST-MODIFIED:20260423T154257Z
UID:13134-1778608800-1778612400@troop26.net
SUMMARY:Personal Management Merit Badge Class 6PM
DESCRIPTION:6 week Personal Management Merit Badge Class led by ASM Mr. Longo. Please watch your email for your weekly assignments. We will be meeting in the Conference room at St. Mark’s.
URL:https://troop26.net/troop-26-event/personal-management-merit-badge-class-6pm-4/
LOCATION:St. Mark’s 3942 La Colina Rd
CATEGORIES:Troop Event
END:VEVENT
BEGIN:VEVENT
DTSTART;TZID=America/Los_Angeles:20260512T190000
DTEND;TZID=America/Los_Angeles:20260512T203000
DTSTAMP:20260424T070538
CREATED:20250513T033021Z
LAST-MODIFIED:20260423T154256Z
UID:12387-1778612400-1778617800@troop26.net
SUMMARY:TROOP MEETING
DESCRIPTION:T26 TROOP MEETING
URL:https://troop26.net/troop-26-event/troop-meeting-200/
LOCATION:St Mark UMC
CATEGORIES:Troop Event
END:VEVENT
BEGIN:VEVENT
DTSTART;TZID=America/Los_Angeles:20260517T140000
DTEND;TZID=America/Los_Angeles:20260517T190000
DTSTAMP:20260424T070538
CREATED:20260204T091304Z
LAST-MODIFIED:20260423T154257Z
UID:13064-1779026400-1779044400@troop26.net
SUMMARY:Troop 26 Reunion/Sam Soga 50'th anniversary
DESCRIPTION:Sorry – nobody could RSVP before….but this is fixed – so resending this message!!Troop 26 Reunion and celebration of Sam Soga’s 50 years with the troop. At Rancho Alegre – meet scouts from all the eras of the troop\, celebrate the troop history\, and Mr. Soga’s 50’th year with Troop 26!!Afternoon of Sunday May 17’th from approx 2pm to 7pm. Dinner from Country Meat Market (owned by a Santa Barbara Eagle scout – not troop 26\, but a good friend of a number of T26 scouts too)!Current Scout attend free (thanks to Friends of Troop 26)\, but you must RSVP in Scoutbook!!! Adults welcome – $30/person – Pay Paul Weakliem directly (Venmo\, Zelle\, cash/check) – don’t pay the troop. 2 pm Rancho Alegre Tours3 pm Meet and Greet4 pm Program and Troop Folklore5 pm Tri Tip Dinner (Country Meat Market)6 pm Dessert and Photo JourneySee flier here
URL:https://troop26.net/troop-26-event/troop-26-reunion-sam-soga-50th-anniversary/
LOCATION:Rancho Allegre\, United States
CATEGORIES:Troop Event
END:VEVENT
BEGIN:VEVENT
DTSTART;TZID=America/Los_Angeles:20260519T180000
DTEND;TZID=America/Los_Angeles:20260519T190000
DTSTAMP:20260424T070538
CREATED:20260311T105751Z
LAST-MODIFIED:20260423T154310Z
UID:13135-1779213600-1779217200@troop26.net
SUMMARY:Personal Management Merit Badge Class 6PM
DESCRIPTION:6 week Personal Management Merit Badge Class led by ASM Mr. Longo. Please watch your email for your weekly assignments. We will be meeting in the Conference room at St. Mark’s.
URL:https://troop26.net/troop-26-event/personal-management-merit-badge-class-6pm-5/
LOCATION:St. Mark’s 3942 La Colina Rd
CATEGORIES:Troop Event
END:VEVENT
BEGIN:VEVENT
DTSTART;TZID=America/Los_Angeles:20260519T190000
DTEND;TZID=America/Los_Angeles:20260519T203000
DTSTAMP:20260424T070538
CREATED:20250521T041611Z
LAST-MODIFIED:20260423T154257Z
UID:12397-1779217200-1779222600@troop26.net
SUMMARY:TROOP MEETING
DESCRIPTION:T26 TROOP MEETING
URL:https://troop26.net/troop-26-event/troop-meeting-201/
LOCATION:St Mark UMC
CATEGORIES:Troop Event
END:VEVENT
BEGIN:VEVENT
DTSTART;TZID=America/Los_Angeles:20260523T203000
DTEND;TZID=America/Los_Angeles:20260523T213000
DTSTAMP:20260424T070538
CREATED:20250929T185957Z
LAST-MODIFIED:20260423T154310Z
UID:12791-1779568200-1779571800@troop26.net
SUMMARY:Gaviota Wind Caves
DESCRIPTION:ASM Renehan to lead\, details to follow.
URL:https://troop26.net/troop-26-event/gaviota-wind-caves/
LOCATION:None
CATEGORIES:Troop Event
END:VEVENT
BEGIN:VEVENT
DTSTART;TZID=America/Los_Angeles:20260525T000000
DTEND;TZID=America/Los_Angeles:20260525T234500
DTSTAMP:20260424T070538
CREATED:20250526T050036Z
LAST-MODIFIED:20260423T154310Z
UID:12407-1779667200-1779752700@troop26.net
SUMMARY:MEMORIAL DAY
DESCRIPTION:HOLIDAY
URL:https://troop26.net/troop-26-event/memorial-day-4/
LOCATION:None
CATEGORIES:Troop Event
END:VEVENT
BEGIN:VEVENT
DTSTART;TZID=America/Los_Angeles:20260526T180000
DTEND;TZID=America/Los_Angeles:20260526T190000
DTSTAMP:20260424T070538
CREATED:20260311T105751Z
LAST-MODIFIED:20260423T154310Z
UID:13136-1779818400-1779822000@troop26.net
SUMMARY:Personal Management Merit Badge Class 6PM
DESCRIPTION:6 week Personal Management Merit Badge Class led by ASM Mr. Longo. Please watch your email for your weekly assignments. We will be meeting in the Conference room at St. Mark’s.
URL:https://troop26.net/troop-26-event/personal-management-merit-badge-class-6pm-6/
LOCATION:St. Mark’s 3942 La Colina Rd
CATEGORIES:Troop Event
END:VEVENT
BEGIN:VEVENT
DTSTART;TZID=America/Los_Angeles:20260526T190000
DTEND;TZID=America/Los_Angeles:20260526T203000
DTSTAMP:20260424T070538
CREATED:20250527T051635Z
LAST-MODIFIED:20260423T154310Z
UID:12409-1779822000-1779827400@troop26.net
SUMMARY:TROOP MEETING
DESCRIPTION:T26 TROOP MEETING
URL:https://troop26.net/troop-26-event/troop-meeting-202/
LOCATION:St Mark UMC
CATEGORIES:Troop Event
END:VEVENT
BEGIN:VEVENT
DTSTART;TZID=America/Los_Angeles:20260530T070000
DTEND;TZID=America/Los_Angeles:20260531T150000
DTSTAMP:20260424T070538
CREATED:20250929T185957Z
LAST-MODIFIED:20260423T154310Z
UID:12790-1780124400-1780239600@troop26.net
SUMMARY:Overnight - Horseshoe Bend!
DESCRIPTION:ASm Rowe & Hannotte to lead\, details to follow
URL:https://troop26.net/troop-26-event/overnight-horseshoe-bend/
LOCATION:Location was not specified
CATEGORIES:Troop Event
END:VEVENT
END:VCALENDAR