BEGIN:VCALENDAR
VERSION:2.0
PRODID:-//Troop 26 - ECPv6.15.20//NONSGML v1.0//EN
CALSCALE:GREGORIAN
METHOD:PUBLISH
X-WR-CALNAME:Troop 26
X-ORIGINAL-URL:https://troop26.net
X-WR-CALDESC:Events for Troop 26
REFRESH-INTERVAL;VALUE=DURATION:PT1H
X-Robots-Tag:noindex
X-PUBLISHED-TTL:PT1H
BEGIN:VTIMEZONE
TZID:America/Los_Angeles
BEGIN:DAYLIGHT
TZOFFSETFROM:-0800
TZOFFSETTO:-0700
TZNAME:PDT
DTSTART:20250309T100000
END:DAYLIGHT
BEGIN:STANDARD
TZOFFSETFROM:-0700
TZOFFSETTO:-0800
TZNAME:PST
DTSTART:20251102T090000
END:STANDARD
BEGIN:DAYLIGHT
TZOFFSETFROM:-0800
TZOFFSETTO:-0700
TZNAME:PDT
DTSTART:20260308T100000
END:DAYLIGHT
BEGIN:STANDARD
TZOFFSETFROM:-0700
TZOFFSETTO:-0800
TZNAME:PST
DTSTART:20261101T090000
END:STANDARD
BEGIN:DAYLIGHT
TZOFFSETFROM:-0800
TZOFFSETTO:-0700
TZNAME:PDT
DTSTART:20270314T100000
END:DAYLIGHT
BEGIN:STANDARD
TZOFFSETFROM:-0700
TZOFFSETTO:-0800
TZNAME:PST
DTSTART:20271107T090000
END:STANDARD
END:VTIMEZONE
BEGIN:VEVENT
DTSTART;TZID=America/Los_Angeles:20260602T190000
DTEND;TZID=America/Los_Angeles:20260602T203000
DTSTAMP:20260424T085428
CREATED:20250604T055941Z
LAST-MODIFIED:20260424T154330Z
UID:12428-1780426800-1780432200@troop26.net
SUMMARY:TROOP MEETING
DESCRIPTION:T26 TROOP MEETING
URL:https://troop26.net/troop-26-event/troop-meeting-203/
LOCATION:St Mark UMC
CATEGORIES:Troop Event
END:VEVENT
BEGIN:VEVENT
DTSTART;TZID=America/Los_Angeles:20260602T191500
DTEND;TZID=America/Los_Angeles:20260602T201500
DTSTAMP:20260424T085428
CREATED:20260407T142838Z
LAST-MODIFIED:20260424T154330Z
UID:13176-1780427700-1780431300@troop26.net
SUMMARY:Parent Committee Meeting
DESCRIPTION:Parent Committee meetings are on the first Tuesday of the month.
URL:https://troop26.net/troop-26-event/parent-committee-meeting-33/
LOCATION:None
CATEGORIES:Troop Event
END:VEVENT
BEGIN:VEVENT
DTSTART;TZID=America/Los_Angeles:20260609T190000
DTEND;TZID=America/Los_Angeles:20260609T203000
DTSTAMP:20260424T085428
CREATED:20250610T062945Z
LAST-MODIFIED:20260424T154331Z
UID:12435-1781031600-1781037000@troop26.net
SUMMARY:TROOP MEETING
DESCRIPTION:T26 TROOP MEETING
URL:https://troop26.net/troop-26-event/troop-meeting-204/
LOCATION:St Mark UMC
CATEGORIES:Troop Event
END:VEVENT
BEGIN:VEVENT
DTSTART;TZID=America/Los_Angeles:20260610T000000
DTEND;TZID=America/Los_Angeles:20260610T234500
DTSTAMP:20260424T085428
CREATED:20250611T064445Z
LAST-MODIFIED:20260424T154331Z
UID:12440-1781049600-1781135100@troop26.net
SUMMARY:SBUSD LAST DAY
DESCRIPTION:SBUSD
URL:https://troop26.net/troop-26-event/sbusd-last-day-2/
LOCATION:None
CATEGORIES:Troop Event
END:VEVENT
BEGIN:VEVENT
DTSTART;TZID=America/Los_Angeles:20260614T000000
DTEND;TZID=America/Los_Angeles:20260621T234500
DTSTAMP:20260424T085428
CREATED:20250615T071533Z
LAST-MODIFIED:20260424T154344Z
UID:12446-1781395200-1782085500@troop26.net
SUMMARY:Seabase High Adventure Trip-Florida-(Mr Hannotte)
DESCRIPTION:Seabase Trip to Florida\, High Adventure Trip
URL:https://troop26.net/troop-26-event/seabase-high-adventure-trip-florida-mr-hannotte/
LOCATION:Location was not specified
CATEGORIES:Troop Event
END:VEVENT
BEGIN:VEVENT
DTSTART;TZID=America/Los_Angeles:20260616T190000
DTEND;TZID=America/Los_Angeles:20260616T203000
DTSTAMP:20260424T085428
CREATED:20250617T073102Z
LAST-MODIFIED:20260424T154344Z
UID:12449-1781636400-1781641800@troop26.net
SUMMARY:TROOP MEETING
DESCRIPTION:T26 TROOP MEETING
URL:https://troop26.net/troop-26-event/troop-meeting-205/
LOCATION:St Mark UMC
CATEGORIES:Troop Event
END:VEVENT
BEGIN:VEVENT
DTSTART;TZID=America/Los_Angeles:20260623T190000
DTEND;TZID=America/Los_Angeles:20260623T203000
DTSTAMP:20260424T085428
CREATED:20250624T074841Z
LAST-MODIFIED:20260424T154344Z
UID:12458-1782241200-1782246600@troop26.net
SUMMARY:TROOP MEETING
DESCRIPTION:T26 TROOP MEETING
URL:https://troop26.net/troop-26-event/troop-meeting-206/
LOCATION:St Mark UMC
CATEGORIES:Troop Event
END:VEVENT
BEGIN:VEVENT
DTSTART;TZID=America/Los_Angeles:20260630T190000
DTEND;TZID=America/Los_Angeles:20260630T203000
DTSTAMP:20260424T085428
CREATED:20250701T084606Z
LAST-MODIFIED:20260424T154344Z
UID:12467-1782846000-1782851400@troop26.net
SUMMARY:TROOP MEETING
DESCRIPTION:T26 TROOP MEETING
URL:https://troop26.net/troop-26-event/troop-meeting-207/
LOCATION:St Mark UMC
CATEGORIES:Troop Event
END:VEVENT
END:VCALENDAR