BEGIN:VCALENDAR
VERSION:2.0
PRODID:-//Troop 26 - ECPv6.15.20//NONSGML v1.0//EN
CALSCALE:GREGORIAN
METHOD:PUBLISH
X-ORIGINAL-URL:https://troop26.net
X-WR-CALDESC:Events for Troop 26
REFRESH-INTERVAL;VALUE=DURATION:PT1H
X-Robots-Tag:noindex
X-PUBLISHED-TTL:PT1H
BEGIN:VTIMEZONE
TZID:America/Los_Angeles
BEGIN:DAYLIGHT
TZOFFSETFROM:-0800
TZOFFSETTO:-0700
TZNAME:PDT
DTSTART:20250309T100000
END:DAYLIGHT
BEGIN:STANDARD
TZOFFSETFROM:-0700
TZOFFSETTO:-0800
TZNAME:PST
DTSTART:20251102T090000
END:STANDARD
BEGIN:DAYLIGHT
TZOFFSETFROM:-0800
TZOFFSETTO:-0700
TZNAME:PDT
DTSTART:20260308T100000
END:DAYLIGHT
BEGIN:STANDARD
TZOFFSETFROM:-0700
TZOFFSETTO:-0800
TZNAME:PST
DTSTART:20261101T090000
END:STANDARD
BEGIN:DAYLIGHT
TZOFFSETFROM:-0800
TZOFFSETTO:-0700
TZNAME:PDT
DTSTART:20270314T100000
END:DAYLIGHT
BEGIN:STANDARD
TZOFFSETFROM:-0700
TZOFFSETTO:-0800
TZNAME:PST
DTSTART:20271107T090000
END:STANDARD
END:VTIMEZONE
BEGIN:VEVENT
DTSTART;TZID=America/Los_Angeles:20260425T120000
DTEND;TZID=America/Los_Angeles:20260425T180000
DTSTAMP:20260424T052302
CREATED:20250929T185957Z
LAST-MODIFIED:20260423T154255Z
UID:12789-1777118400-1777140000@troop26.net
SUMMARY:Tequepis Peak Hike
DESCRIPTION:Seabase training with others welcome\, led by ASM Hannotte & Rowe\, details to follow
URL:https://troop26.net/troop-26-event/tequepis-peak-hike/
LOCATION:Location was not specified
CATEGORIES:Troop Event
END:VEVENT
BEGIN:VEVENT
DTSTART;TZID=America/Los_Angeles:20260428T180000
DTEND;TZID=America/Los_Angeles:20260428T190000
DTSTAMP:20260424T052302
CREATED:20260311T105738Z
LAST-MODIFIED:20260423T154256Z
UID:13132-1777399200-1777402800@troop26.net
SUMMARY:Personal Management Merit Badge Class 6PM
DESCRIPTION:6 week Personal Management Merit Badge Class led by ASM Mr. Longo. Please watch your email for your weekly assignments. We will be meeting in the Conference room at St. Mark’s.
URL:https://troop26.net/troop-26-event/personal-management-merit-badge-class-6pm-2/
LOCATION:St. Mark’s 3942 La Colina Rd
CATEGORIES:Troop Event
END:VEVENT
BEGIN:VEVENT
DTSTART;TZID=America/Los_Angeles:20260428T190000
DTEND;TZID=America/Los_Angeles:20260428T203000
DTSTAMP:20260424T052302
CREATED:20250429T013311Z
LAST-MODIFIED:20260423T154256Z
UID:12349-1777402800-1777408200@troop26.net
SUMMARY:TROOP MEETING
DESCRIPTION:T26 TROOP MEETING\, BATS\, Arlo\, E-Waste
URL:https://troop26.net/troop-26-event/troop-meeting-198/
LOCATION:St Mark UMC
CATEGORIES:Troop Event
END:VEVENT
END:VCALENDAR